{"text_format":"3","workbook":"xlsx","n_sheets":2,"sheets":["Oś czasu projektu","obliczenia"],"not_rendered":{"charts":1,"defined_names":9},"read":"whole","date_system":"1900"}

{"sheet":"Oś czasu projektu","index":0,"n_rows":16,"n_cols":6,"rows_kept":16,"merged":[[0,2,0,6],[1,2,1,6]]}
[null,null,"OŚ CZASU PROJEKTU"]
[null,null,"Wykres przedstawiający działania związane z projektem z osią czasu z możliwością przewijania znajdującą się w tej komórce."]
[null,null,"WPROWADŹ DATĘ ROZPOCZĘCIA: ",{"$f":"TODAY()","v":"2019-07-05"}]
[null,"ID","DZIAŁANIE","ROZPOCZĘCIE","ZAKOŃCZENIE","NOTATKI"]
[null,{"$f":"ROW(B5)-obliczenia!$D$5","v":-7},"Rozpoczęcie projektu",{"$f":"$D$3+3","v":"2019-07-08"}]
[null,{"$f":"ROW(B6)-obliczenia!$D$5","v":-6},"Punkt kontrolny 1",{"$f":"D5+10","v":"2019-07-18"},{"$f":"Działania[[#This Row],[ROZPOCZĘCIE]]+3","v":"2019-07-21"}]
[null,{"$f":"ROW(B7)-obliczenia!$D$5","v":-5},"Punkt kontrolny 2",{"$f":"D6+1","v":"2019-07-19"},{"$f":"Działania[[#This Row],[ROZPOCZĘCIE]]+3","v":"2019-07-22"}]
[null,{"$f":"ROW(B8)-obliczenia!$D$5","v":-4},"Punkt kontrolny 3",{"$f":"D7+5","v":"2019-07-24"}]
[null,{"$f":"ROW(B9)-obliczenia!$D$5","v":-3},"Punkt kontrolny 4",{"$f":"D8+10","v":"2019-08-03"},{"$f":"Działania[[#This Row],[ROZPOCZĘCIE]]+2","v":"2019-08-05"}]
[null,{"$f":"ROW(B10)-obliczenia!$D$5","v":-2},"Punkt kontrolny 5","2019-08-13",{"$f":"Działania[[#This Row],[ROZPOCZĘCIE]]+2","v":"2019-08-15"}]
[null,{"$f":"ROW(B11)-obliczenia!$D$5","v":-1},"Punkt kontrolny 6",{"$f":"D10+10","v":"2019-08-23"},{"$f":"Działania[[#This Row],[ROZPOCZĘCIE]]+2","v":"2019-08-25"}]
[null,{"$f":"ROW(B12)-obliczenia!$D$5","v":0},"Punkt kontrolny 7","2019-09-02"]
[null,{"$f":"ROW(B13)-obliczenia!$D$5","v":1},"Punkt kontrolny 8",{"$f":"D12+10","v":"2019-09-12"},{"$f":"Działania[[#This Row],[ROZPOCZĘCIE]]+2","v":"2019-09-14"}]
[null,{"$f":"ROW(B14)-obliczenia!$D$5","v":2},"Punkt kontrolny 9","2019-09-22",{"$f":"Działania[[#This Row],[ROZPOCZĘCIE]]+2","v":"2019-09-24"}]
[null,{"$f":"ROW(B15)-obliczenia!$D$5","v":3},"Punkt kontrolny 10","2019-10-02",{"$f":"Działania[[#This Row],[ROZPOCZĘCIE]]+2","v":"2019-10-04"}]
[null,{"$f":"ROW(B16)-obliczenia!$D$5","v":4},"Zakończenie projektu",{"$f":"D15+10","v":"2019-10-12"}]

{"sheet":"obliczenia","index":1,"n_rows":72,"n_cols":35,"rows_kept":72,"hidden":true}
["*** Ten arkusz powinien pozostać ukryty ***"]
[]
[null,null,"Dzisiaj:",{"$f":"TODAY()","v":"2019-07-05"}]
[{"$nulls":3},5]
[null,null,"Liczba wierszy",{"$f":"ROWS(Działania[])","v":12}]
[{"$nulls":4},{"$f":"NA()","v":{"$error":"#N/A"}}]
[{"$nulls":4},{"$f":"NA()","v":{"$error":"#N/A"}}]
[{"$nulls":4},{"$f":"NA()","v":{"$error":"#N/A"}}]
[null,null,"Okno Działania:",{"$f":"SUMPRODUCT( ((Działania[ROZPOCZĘCIE]>=Okno_Data_rozpoczęcia)+(Działania[ZAKOŃCZENIE]>=Okno_Data_rozpoczęcia)>0)*(Działania[ROZPOCZĘCIE]<=(Okno_Data_rozpoczęcia+Okno_Dni-1)) )","v":5},{"$f":"NA()","v":{"$error":"#N/A"}}]
[{"$nulls":3},9,{"$f":"NA()","v":{"$error":"#N/A"}}]
[{"$nulls":3},{"$f":"D10-MIN(D10,D9)","v":4},{"$f":"NA()","v":{"$error":"#N/A"}}]
[{"$nulls":4},{"$f":"NA()","v":{"$error":"#N/A"}}]
[{"$nulls":4},{"$f":"NA()","v":{"$error":"#N/A"}}]
[{"$nulls":4},{"$f":"NA()","v":{"$error":"#N/A"}}]
[{"$nulls":4},{"$f":"INDEX(Działania[ID],MATCH(1, ((Działania[ROZPOCZĘCIE]>=Okno_Data_rozpoczęcia)+(Działania[ZAKOŃCZENIE]>=Okno_Data_rozpoczęcia)>0)*(Działania[ROZPOCZĘCIE]<=(Okno_Data_rozpoczęcia+Okno_Dni-1)), 0))","v":-7},{"$f":"OFFSET(E15,-$D$11,)","v":{"$error":"#N/A"}}]
[{"$nulls":4},{"$f":"INDEX(Działania[ID],MATCH(1, (Działania[ID]>E15)*((Działania[ROZPOCZĘCIE]>=Okno_Data_rozpoczęcia)+(Działania[ZAKOŃCZENIE]>=Okno_Data_rozpoczęcia)>0)*(Działania[ROZPOCZĘCIE]<=(Okno_Data_rozpoczęcia+Okno_Dni-1)), 0))","v":-6},{"$error":"#N/A"}]
[{"$nulls":4},{"$f":"INDEX(Działania[ID],MATCH(1, (Działania[ID]>E16)*((Działania[ROZPOCZĘCIE]>=Okno_Data_rozpoczęcia)+(Działania[ZAKOŃCZENIE]>=Okno_Data_rozpoczęcia)>0)*(Działania[ROZPOCZĘCIE]<=(Okno_Data_rozpoczęcia+Okno_Dni-1)), 0))","v":-5},{"$error":"#N/A"}]
[{"$nulls":4},{"$f":"INDEX(Działania[ID],MATCH(1, (Działania[ID]>E17)*((Działania[ROZPOCZĘCIE]>=Okno_Data_rozpoczęcia)+(Działania[ZAKOŃCZENIE]>=Okno_Data_rozpoczęcia)>0)*(Działania[ROZPOCZĘCIE]<=(Okno_Data_rozpoczęcia+Okno_Dni-1)), 0))","v":-4},{"$error":"#N/A"}]
[{"$nulls":4},{"$f":"INDEX(Działania[ID],MATCH(1, (Działania[ID]>E18)*((Działania[ROZPOCZĘCIE]>=Okno_Data_rozpoczęcia)+(Działania[ZAKOŃCZENIE]>=Okno_Data_rozpoczęcia)>0)*(Działania[ROZPOCZĘCIE]<=(Okno_Data_rozpoczęcia+Okno_Dni-1)), 0))","v":-3},-7]
[{"$nulls":4},{"$f":"INDEX(Działania[ID],MATCH(1, (Działania[ID]>E19)*((Działania[ROZPOCZĘCIE]>=Okno_Data_rozpoczęcia)+(Działania[ZAKOŃCZENIE]>=Okno_Data_rozpoczęcia)>0)*(Działania[ROZPOCZĘCIE]<=(Okno_Data_rozpoczęcia+Okno_Dni-1)), 0))","v":{"$error":"#N/A"}},-6]
[{"$nulls":4},{"$f":"INDEX(Działania[ID],MATCH(1, (Działania[ID]>E20)*((Działania[ROZPOCZĘCIE]>=Okno_Data_rozpoczęcia)+(Działania[ZAKOŃCZENIE]>=Okno_Data_rozpoczęcia)>0)*(Działania[ROZPOCZĘCIE]<=(Okno_Data_rozpoczęcia+Okno_Dni-1)), 0))","v":{"$error":"#N/A"}},-5]
[{"$nulls":4},{"$f":"INDEX(Działania[ID],MATCH(1, (Działania[ID]>E21)*((Działania[ROZPOCZĘCIE]>=Okno_Data_rozpoczęcia)+(Działania[ZAKOŃCZENIE]>=Okno_Data_rozpoczęcia)>0)*(Działania[ROZPOCZĘCIE]<=(Okno_Data_rozpoczęcia+Okno_Dni-1)), 0))","v":{"$error":"#N/A"}},-4]
[{"$nulls":4},{"$f":"INDEX(Działania[ID],MATCH(1, (Działania[ID]>E22)*((Działania[ROZPOCZĘCIE]>=Okno_Data_rozpoczęcia)+(Działania[ZAKOŃCZENIE]>=Okno_Data_rozpoczęcia)>0)*(Działania[ROZPOCZĘCIE]<=(Okno_Data_rozpoczęcia+Okno_Dni-1)), 0))","v":{"$error":"#N/A"}},-3]
[]
[null,null,"Obliczenia okna rozpoczęcia",{"$f":"Data_rozpoczęcia+Okno_Przesunięcie","v":"2019-07-05"}]
[null,null,"Przesunięcie",0]
[]
[null,null,"Rozpoczęcie",{"$f":"'Oś czasu projektu'!D3","v":"2019-07-05"}]
[null,null,"Okno",30]
[]
["Położenie","Seria","Identyfikator działania","Działanie",{"$f":"Okno_Data_rozpoczęcia","v":"2019-07-05"},{"$f":"E31+1","v":"2019-07-06"},"2019-07-07","2019-07-08","2019-07-09","2019-07-10","2019-07-11","2019-07-12","2019-07-13","2019-07-14","2019-07-15","2019-07-16","2019-07-17","2019-07-18","2019-07-19","2019-07-20","2019-07-21","2019-07-22","2019-07-23","2019-07-24","2019-07-25","2019-07-26","2019-07-27","2019-07-28","2019-07-29","2019-07-30","2019-07-31","2019-08-01","2019-08-02","2019-08-03","2019-08-04"]
[11.3,1,{"$f":"F15","v":{"$error":"#N/A"}},{"$f":"INDEX(Działania[DZIAŁANIE],MATCH($C32,Działania[ID],0))","v":{"$error":"#N/A"}},{"$f":"Kalkulator_siatkowy","v":{"$error":"#N/A"}},{"$f":"Kalkulator_siatkowy","v":{"$error":"#N/A"}},{"$f":"Kalkulator_siatkowy","v":{"$error":"#N/A"}},{"$f":"Kalkulator_siatkowy","v":{"$error":"#N/A"}},{"$f":"Kalkulator_siatkowy","v":{"$error":"#N/A"}},{"$f":"Kalkulator_siatkowy","v":{"$error":"#N/A"}},{"$f":"Kalkulator_siatkowy","v":{"$error":"#N/A"}},{"$f":"Kalkulator_siatkowy","v":{"$error":"#N/A"}},{"$f":"Kalkulator_siatkowy","v":{"$error":"#N/A"}},{"$f":"Kalkulator_siatkowy","v":{"$error":"#N/A"}},{"$f":"Kalkulator_siatkowy","v":{"$error":"#N/A"}},{"$f":"Kalkulator_siatkowy","v":{"$error":"#N/A"}},{"$f":"Kalkulator_siatkowy","v":{"$error":"#N/A"}},{"$f":"Kalkulator_siatkowy","v":{"$error":"#N/A"}},{"$f":"Kalkulator_siatkowy","v":{"$error":"#N/A"}},{"$f":"Kalkulator_siatkowy","v":{"$error":"#N/A"}},{"$f":"Kalkulator_siatkowy","v":{"$error":"#N/A"}},{"$f":"Kalkulator_siatkowy","v":{"$error":"#N/A"}},{"$f":"Kalkulator_siatkowy","v":{"$error":"#N/A"}},{"$f":"Kalkulator_siatkowy","v":{"$error":"#N/A"}},{"$f":"Kalkulator_siatkowy","v":{"$error":"#N/A"}},{"$f":"Kalkulator_siatkowy","v":{"$error":"#N/A"}},{"$f":"Kalkulator_siatkowy","v":{"$error":"#N/A"}},{"$f":"Kalkulator_siatkowy","v":{"$error":"#N/A"}},{"$f":"Kalkulator_siatkowy","v":{"$error":"#N/A"}},{"$f":"Kalkulator_siatkowy","v":{"$error":"#N/A"}},{"$f":"Kalkulator_siatkowy","v":{"$error":"#N/A"}},{"$f":"Kalkulator_siatkowy","v":{"$error":"#N/A"}},{"$f":"Kalkulator_siatkowy","v":{"$error":"#N/A"}},{"$f":"Kalkulator_siatkowy","v":{"$error":"#N/A"}},{"$f":"Kalkulator_siatkowy","v":{"$error":"#N/A"}}]
[{"$f":"A32-1","v":10.3},2,{"$error":"#N/A"},{"$f":"INDEX(Działania[DZIAŁANIE],MATCH($C33,Działania[ID],0))","v":{"$error":"#N/A"}},{"$f":"Kalkulator_siatkowy","v":{"$error":"#N/A"}},{"$f":"Kalkulator_siatkowy","v":{"$error":"#N/A"}},{"$f":"Kalkulator_siatkowy","v":{"$error":"#N/A"}},{"$f":"Kalkulator_siatkowy","v":{"$error":"#N/A"}},{"$f":"Kalkulator_siatkowy","v":{"$error":"#N/A"}},{"$f":"Kalkulator_siatkowy","v":{"$error":"#N/A"}},{"$f":"Kalkulator_siatkowy","v":{"$error":"#N/A"}},{"$f":"Kalkulator_siatkowy","v":{"$error":"#N/A"}},{"$f":"Kalkulator_siatkowy","v":{"$error":"#N/A"}},{"$f":"Kalkulator_siatkowy","v":{"$error":"#N/A"}},{"$f":"Kalkulator_siatkowy","v":{"$error":"#N/A"}},{"$f":"Kalkulator_siatkowy","v":{"$error":"#N/A"}},{"$f":"Kalkulator_siatkowy","v":{"$error":"#N/A"}},{"$f":"Kalkulator_siatkowy","v":{"$error":"#N/A"}},{"$f":"Kalkulator_siatkowy","v":{"$error":"#N/A"}},{"$f":"Kalkulator_siatkowy","v":{"$error":"#N/A"}},{"$f":"Kalkulator_siatkowy","v":{"$error":"#N/A"}},{"$f":"Kalkulator_siatkowy","v":{"$error":"#N/A"}},{"$f":"Kalkulator_siatkowy","v":{"$error":"#N/A"}},{"$f":"Kalkulator_siatkowy","v":{"$error":"#N/A"}},{"$f":"Kalkulator_siatkowy","v":{"$error":"#N/A"}},{"$f":"Kalkulator_siatkowy","v":{"$error":"#N/A"}},{"$f":"Kalkulator_siatkowy","v":{"$error":"#N/A"}},{"$f":"Kalkulator_siatkowy","v":{"$error":"#N/A"}},{"$f":"Kalkulator_siatkowy","v":{"$error":"#N/A"}},{"$f":"Kalkulator_siatkowy","v":{"$error":"#N/A"}},{"$f":"Kalkulator_siatkowy","v":{"$error":"#N/A"}},{"$f":"Kalkulator_siatkowy","v":{"$error":"#N/A"}},{"$f":"Kalkulator_siatkowy","v":{"$error":"#N/A"}},{"$f":"Kalkulator_siatkowy","v":{"$error":"#N/A"}},{"$f":"Kalkulator_siatkowy","v":{"$error":"#N/A"}}]
[{"$f":"A33-1","v":9.3},3,{"$error":"#N/A"},{"$f":"INDEX(Działania[DZIAŁANIE],MATCH($C34,Działania[ID],0))","v":{"$error":"#N/A"}},{"$f":"Kalkulator_siatkowy","v":{"$error":"#N/A"}},{"$f":"Kalkulator_siatkowy","v":{"$error":"#N/A"}},{"$f":"Kalkulator_siatkowy","v":{"$error":"#N/A"}},{"$f":"Kalkulator_siatkowy","v":{"$error":"#N/A"}},{"$f":"Kalkulator_siatkowy","v":{"$error":"#N/A"}},{"$f":"Kalkulator_siatkowy","v":{"$error":"#N/A"}},{"$f":"Kalkulator_siatkowy","v":{"$error":"#N/A"}},{"$f":"Kalkulator_siatkowy","v":{"$error":"#N/A"}},{"$f":"Kalkulator_siatkowy","v":{"$error":"#N/A"}},{"$f":"Kalkulator_siatkowy","v":{"$error":"#N/A"}},{"$f":"Kalkulator_siatkowy","v":{"$error":"#N/A"}},{"$f":"Kalkulator_siatkowy","v":{"$error":"#N/A"}},{"$f":"Kalkulator_siatkowy","v":{"$error":"#N/A"}},{"$f":"Kalkulator_siatkowy","v":{"$error":"#N/A"}},{"$f":"Kalkulator_siatkowy","v":{"$error":"#N/A"}},{"$f":"Kalkulator_siatkowy","v":{"$error":"#N/A"}},{"$f":"Kalkulator_siatkowy","v":{"$error":"#N/A"}},{"$f":"Kalkulator_siatkowy","v":{"$error":"#N/A"}},{"$f":"Kalkulator_siatkowy","v":{"$error":"#N/A"}},{"$f":"Kalkulator_siatkowy","v":{"$error":"#N/A"}},{"$f":"Kalkulator_siatkowy","v":{"$error":"#N/A"}},{"$f":"Kalkulator_siatkowy","v":{"$error":"#N/A"}},{"$f":"Kalkulator_siatkowy","v":{"$error":"#N/A"}},{"$f":"Kalkulator_siatkowy","v":{"$error":"#N/A"}},{"$f":"Kalkulator_siatkowy","v":{"$error":"#N/A"}},{"$f":"Kalkulator_siatkowy","v":{"$error":"#N/A"}},{"$f":"Kalkulator_siatkowy","v":{"$error":"#N/A"}},{"$f":"Kalkulator_siatkowy","v":{"$error":"#N/A"}},{"$f":"Kalkulator_siatkowy","v":{"$error":"#N/A"}},{"$f":"Kalkulator_siatkowy","v":{"$error":"#N/A"}},{"$f":"Kalkulator_siatkowy","v":{"$error":"#N/A"}}]
[8.3,4,{"$error":"#N/A"},{"$f":"INDEX(Działania[DZIAŁANIE],MATCH($C35,Działania[ID],0))","v":{"$error":"#N/A"}},{"$f":"Kalkulator_siatkowy","v":{"$error":"#N/A"}},{"$f":"Kalkulator_siatkowy","v":{"$error":"#N/A"}},{"$f":"Kalkulator_siatkowy","v":{"$error":"#N/A"}},{"$f":"Kalkulator_siatkowy","v":{"$error":"#N/A"}},{"$f":"Kalkulator_siatkowy","v":{"$error":"#N/A"}},{"$f":"Kalkulator_siatkowy","v":{"$error":"#N/A"}},{"$f":"Kalkulator_siatkowy","v":{"$error":"#N/A"}},{"$f":"Kalkulator_siatkowy","v":{"$error":"#N/A"}},{"$f":"Kalkulator_siatkowy","v":{"$error":"#N/A"}},{"$f":"Kalkulator_siatkowy","v":{"$error":"#N/A"}},{"$f":"Kalkulator_siatkowy","v":{"$error":"#N/A"}},{"$f":"Kalkulator_siatkowy","v":{"$error":"#N/A"}},{"$f":"Kalkulator_siatkowy","v":{"$error":"#N/A"}},{"$f":"Kalkulator_siatkowy","v":{"$error":"#N/A"}},{"$f":"Kalkulator_siatkowy","v":{"$error":"#N/A"}},{"$f":"Kalkulator_siatkowy","v":{"$error":"#N/A"}},{"$f":"Kalkulator_siatkowy","v":{"$error":"#N/A"}},{"$f":"Kalkulator_siatkowy","v":{"$error":"#N/A"}},{"$f":"Kalkulator_siatkowy","v":{"$error":"#N/A"}},{"$f":"Kalkulator_siatkowy","v":{"$error":"#N/A"}},{"$f":"Kalkulator_siatkowy","v":{"$error":"#N/A"}},{"$f":"Kalkulator_siatkowy","v":{"$error":"#N/A"}},{"$f":"Kalkulator_siatkowy","v":{"$error":"#N/A"}},{"$f":"Kalkulator_siatkowy","v":{"$error":"#N/A"}},{"$f":"Kalkulator_siatkowy","v":{"$error":"#N/A"}},{"$f":"Kalkulator_siatkowy","v":{"$error":"#N/A"}},{"$f":"Kalkulator_siatkowy","v":{"$error":"#N/A"}},{"$f":"Kalkulator_siatkowy","v":{"$error":"#N/A"}},{"$f":"Kalkulator_siatkowy","v":{"$error":"#N/A"}},{"$f":"Kalkulator_siatkowy","v":{"$error":"#N/A"}},{"$f":"Kalkulator_siatkowy","v":{"$error":"#N/A"}}]
[7.300000000000001,5,-7,{"$f":"INDEX(Działania[DZIAŁANIE],MATCH($C36,Działania[ID],0))","v":"Rozpoczęcie projektu"},{"$f":"Kalkulator_siatkowy","v":{"$error":"#N/A"}},{"$f":"Kalkulator_siatkowy","v":{"$error":"#N/A"}},{"$f":"Kalkulator_siatkowy","v":{"$error":"#N/A"}},{"$f":"Kalkulator_siatkowy","v":7.300000000000001},{"$f":"Kalkulator_siatkowy","v":{"$error":"#N/A"}},{"$f":"Kalkulator_siatkowy","v":{"$error":"#N/A"}},{"$f":"Kalkulator_siatkowy","v":{"$error":"#N/A"}},{"$f":"Kalkulator_siatkowy","v":{"$error":"#N/A"}},{"$f":"Kalkulator_siatkowy","v":{"$error":"#N/A"}},{"$f":"Kalkulator_siatkowy","v":{"$error":"#N/A"}},{"$f":"Kalkulator_siatkowy","v":{"$error":"#N/A"}},{"$f":"Kalkulator_siatkowy","v":{"$error":"#N/A"}},{"$f":"Kalkulator_siatkowy","v":{"$error":"#N/A"}},{"$f":"Kalkulator_siatkowy","v":{"$error":"#N/A"}},{"$f":"Kalkulator_siatkowy","v":{"$error":"#N/A"}},{"$f":"Kalkulator_siatkowy","v":{"$error":"#N/A"}},{"$f":"Kalkulator_siatkowy","v":{"$error":"#N/A"}},{"$f":"Kalkulator_siatkowy","v":{"$error":"#N/A"}},{"$f":"Kalkulator_siatkowy","v":{"$error":"#N/A"}},{"$f":"Kalkulator_siatkowy","v":{"$error":"#N/A"}},{"$f":"Kalkulator_siatkowy","v":{"$error":"#N/A"}},{"$f":"Kalkulator_siatkowy","v":{"$error":"#N/A"}},{"$f":"Kalkulator_siatkowy","v":{"$error":"#N/A"}},{"$f":"Kalkulator_siatkowy","v":{"$error":"#N/A"}},{"$f":"Kalkulator_siatkowy","v":{"$error":"#N/A"}},{"$f":"Kalkulator_siatkowy","v":{"$error":"#N/A"}},{"$f":"Kalkulator_siatkowy","v":{"$error":"#N/A"}},{"$f":"Kalkulator_siatkowy","v":{"$error":"#N/A"}},{"$f":"Kalkulator_siatkowy","v":{"$error":"#N/A"}},{"$f":"Kalkulator_siatkowy","v":{"$error":"#N/A"}},{"$f":"Kalkulator_siatkowy","v":{"$error":"#N/A"}}]
[6.300000000000001,6,-6,{"$f":"INDEX(Działania[DZIAŁANIE],MATCH($C37,Działania[ID],0))","v":"Punkt kontrolny 1"},{"$f":"Kalkulator_siatkowy","v":{"$error":"#N/A"}},{"$f":"Kalkulator_siatkowy","v":{"$error":"#N/A"}},{"$f":"Kalkulator_siatkowy","v":{"$error":"#N/A"}},{"$f":"Kalkulator_siatkowy","v":{"$error":"#N/A"}},{"$f":"Kalkulator_siatkowy","v":{"$error":"#N/A"}},{"$f":"Kalkulator_siatkowy","v":{"$error":"#N/A"}},{"$f":"Kalkulator_siatkowy","v":{"$error":"#N/A"}},{"$f":"Kalkulator_siatkowy","v":{"$error":"#N/A"}},{"$f":"Kalkulator_siatkowy","v":{"$error":"#N/A"}},{"$f":"Kalkulator_siatkowy","v":{"$error":"#N/A"}},{"$f":"Kalkulator_siatkowy","v":{"$error":"#N/A"}},{"$f":"Kalkulator_siatkowy","v":{"$error":"#N/A"}},{"$f":"Kalkulator_siatkowy","v":{"$error":"#N/A"}},{"$f":"Kalkulator_siatkowy","v":6.300000000000001},{"$f":"Kalkulator_siatkowy","v":6.300000000000001},{"$f":"Kalkulator_siatkowy","v":6.300000000000001},{"$f":"Kalkulator_siatkowy","v":6.300000000000001},{"$f":"Kalkulator_siatkowy","v":{"$error":"#N/A"}},{"$f":"Kalkulator_siatkowy","v":{"$error":"#N/A"}},{"$f":"Kalkulator_siatkowy","v":{"$error":"#N/A"}},{"$f":"Kalkulator_siatkowy","v":{"$error":"#N/A"}},{"$f":"Kalkulator_siatkowy","v":{"$error":"#N/A"}},{"$f":"Kalkulator_siatkowy","v":{"$error":"#N/A"}},{"$f":"Kalkulator_siatkowy","v":{"$error":"#N/A"}},{"$f":"Kalkulator_siatkowy","v":{"$error":"#N/A"}},{"$f":"Kalkulator_siatkowy","v":{"$error":"#N/A"}},{"$f":"Kalkulator_siatkowy","v":{"$error":"#N/A"}},{"$f":"Kalkulator_siatkowy","v":{"$error":"#N/A"}},{"$f":"Kalkulator_siatkowy","v":{"$error":"#N/A"}},{"$f":"Kalkulator_siatkowy","v":{"$error":"#N/A"}},{"$f":"Kalkulator_siatkowy","v":{"$error":"#N/A"}}]
[5.300000000000001,7,-5,{"$f":"INDEX(Działania[DZIAŁANIE],MATCH($C38,Działania[ID],0))","v":"Punkt kontrolny 2"},{"$f":"Kalkulator_siatkowy","v":{"$error":"#N/A"}},{"$f":"Kalkulator_siatkowy","v":{"$error":"#N/A"}},{"$f":"Kalkulator_siatkowy","v":{"$error":"#N/A"}},{"$f":"Kalkulator_siatkowy","v":{"$error":"#N/A"}},{"$f":"Kalkulator_siatkowy","v":{"$error":"#N/A"}},{"$f":"Kalkulator_siatkowy","v":{"$error":"#N/A"}},{"$f":"Kalkulator_siatkowy","v":{"$error":"#N/A"}},{"$f":"Kalkulator_siatkowy","v":{"$error":"#N/A"}},{"$f":"Kalkulator_siatkowy","v":{"$error":"#N/A"}},{"$f":"Kalkulator_siatkowy","v":{"$error":"#N/A"}},{"$f":"Kalkulator_siatkowy","v":{"$error":"#N/A"}},{"$f":"Kalkulator_siatkowy","v":{"$error":"#N/A"}},{"$f":"Kalkulator_siatkowy","v":{"$error":"#N/A"}},{"$f":"Kalkulator_siatkowy","v":{"$error":"#N/A"}},{"$f":"Kalkulator_siatkowy","v":5.300000000000001},{"$f":"Kalkulator_siatkowy","v":5.300000000000001},{"$f":"Kalkulator_siatkowy","v":5.300000000000001},{"$f":"Kalkulator_siatkowy","v":5.300000000000001},{"$f":"Kalkulator_siatkowy","v":{"$error":"#N/A"}},{"$f":"Kalkulator_siatkowy","v":{"$error":"#N/A"}},{"$f":"Kalkulator_siatkowy","v":{"$error":"#N/A"}},{"$f":"Kalkulator_siatkowy","v":{"$error":"#N/A"}},{"$f":"Kalkulator_siatkowy","v":{"$error":"#N/A"}},{"$f":"Kalkulator_siatkowy","v":{"$error":"#N/A"}},{"$f":"Kalkulator_siatkowy","v":{"$error":"#N/A"}},{"$f":"Kalkulator_siatkowy","v":{"$error":"#N/A"}},{"$f":"Kalkulator_siatkowy","v":{"$error":"#N/A"}},{"$f":"Kalkulator_siatkowy","v":{"$error":"#N/A"}},{"$f":"Kalkulator_siatkowy","v":{"$error":"#N/A"}},{"$f":"Kalkulator_siatkowy","v":{"$error":"#N/A"}},{"$f":"Kalkulator_siatkowy","v":{"$error":"#N/A"}}]
[4.300000000000001,8,-4,{"$f":"INDEX(Działania[DZIAŁANIE],MATCH($C39,Działania[ID],0))","v":"Punkt kontrolny 3"},{"$f":"Kalkulator_siatkowy","v":{"$error":"#N/A"}},{"$f":"Kalkulator_siatkowy","v":{"$error":"#N/A"}},{"$f":"Kalkulator_siatkowy","v":{"$error":"#N/A"}},{"$f":"Kalkulator_siatkowy","v":{"$error":"#N/A"}},{"$f":"Kalkulator_siatkowy","v":{"$error":"#N/A"}},{"$f":"Kalkulator_siatkowy","v":{"$error":"#N/A"}},{"$f":"Kalkulator_siatkowy","v":{"$error":"#N/A"}},{"$f":"Kalkulator_siatkowy","v":{"$error":"#N/A"}},{"$f":"Kalkulator_siatkowy","v":{"$error":"#N/A"}},{"$f":"Kalkulator_siatkowy","v":{"$error":"#N/A"}},{"$f":"Kalkulator_siatkowy","v":{"$error":"#N/A"}},{"$f":"Kalkulator_siatkowy","v":{"$error":"#N/A"}},{"$f":"Kalkulator_siatkowy","v":{"$error":"#N/A"}},{"$f":"Kalkulator_siatkowy","v":{"$error":"#N/A"}},{"$f":"Kalkulator_siatkowy","v":{"$error":"#N/A"}},{"$f":"Kalkulator_siatkowy","v":{"$error":"#N/A"}},{"$f":"Kalkulator_siatkowy","v":{"$error":"#N/A"}},{"$f":"Kalkulator_siatkowy","v":{"$error":"#N/A"}},{"$f":"Kalkulator_siatkowy","v":{"$error":"#N/A"}},{"$f":"Kalkulator_siatkowy","v":4.300000000000001},{"$f":"Kalkulator_siatkowy","v":{"$error":"#N/A"}},{"$f":"Kalkulator_siatkowy","v":{"$error":"#N/A"}},{"$f":"Kalkulator_siatkowy","v":{"$error":"#N/A"}},{"$f":"Kalkulator_siatkowy","v":{"$error":"#N/A"}},{"$f":"Kalkulator_siatkowy","v":{"$error":"#N/A"}},{"$f":"Kalkulator_siatkowy","v":{"$error":"#N/A"}},{"$f":"Kalkulator_siatkowy","v":{"$error":"#N/A"}},{"$f":"Kalkulator_siatkowy","v":{"$error":"#N/A"}},{"$f":"Kalkulator_siatkowy","v":{"$error":"#N/A"}},{"$f":"Kalkulator_siatkowy","v":{"$error":"#N/A"}},{"$f":"Kalkulator_siatkowy","v":{"$error":"#N/A"}}]
[3.3000000000000007,9,-3,{"$f":"INDEX(Działania[DZIAŁANIE],MATCH($C40,Działania[ID],0))","v":"Punkt kontrolny 4"},{"$f":"Kalkulator_siatkowy","v":{"$error":"#N/A"}},{"$f":"Kalkulator_siatkowy","v":{"$error":"#N/A"}},{"$f":"Kalkulator_siatkowy","v":{"$error":"#N/A"}},{"$f":"Kalkulator_siatkowy","v":{"$error":"#N/A"}},{"$f":"Kalkulator_siatkowy","v":{"$error":"#N/A"}},{"$f":"Kalkulator_siatkowy","v":{"$error":"#N/A"}},{"$f":"Kalkulator_siatkowy","v":{"$error":"#N/A"}},{"$f":"Kalkulator_siatkowy","v":{"$error":"#N/A"}},{"$f":"Kalkulator_siatkowy","v":{"$error":"#N/A"}},{"$f":"Kalkulator_siatkowy","v":{"$error":"#N/A"}},{"$f":"Kalkulator_siatkowy","v":{"$error":"#N/A"}},{"$f":"Kalkulator_siatkowy","v":{"$error":"#N/A"}},{"$f":"Kalkulator_siatkowy","v":{"$error":"#N/A"}},{"$f":"Kalkulator_siatkowy","v":{"$error":"#N/A"}},{"$f":"Kalkulator_siatkowy","v":{"$error":"#N/A"}},{"$f":"Kalkulator_siatkowy","v":{"$error":"#N/A"}},{"$f":"Kalkulator_siatkowy","v":{"$error":"#N/A"}},{"$f":"Kalkulator_siatkowy","v":{"$error":"#N/A"}},{"$f":"Kalkulator_siatkowy","v":{"$error":"#N/A"}},{"$f":"Kalkulator_siatkowy","v":{"$error":"#N/A"}},{"$f":"Kalkulator_siatkowy","v":{"$error":"#N/A"}},{"$f":"Kalkulator_siatkowy","v":{"$error":"#N/A"}},{"$f":"Kalkulator_siatkowy","v":{"$error":"#N/A"}},{"$f":"Kalkulator_siatkowy","v":{"$error":"#N/A"}},{"$f":"Kalkulator_siatkowy","v":{"$error":"#N/A"}},{"$f":"Kalkulator_siatkowy","v":{"$error":"#N/A"}},{"$f":"Kalkulator_siatkowy","v":{"$error":"#N/A"}},{"$f":"Kalkulator_siatkowy","v":{"$error":"#N/A"}},{"$f":"Kalkulator_siatkowy","v":{"$error":"#N/A"}},{"$f":"Kalkulator_siatkowy","v":3.3000000000000007},{"$f":"Kalkulator_siatkowy","v":3.3000000000000007}]
[]
[]
[{"$nulls":4},{"$f":"E31","v":"2019-07-05"},{"$f":"F31","v":"2019-07-06"},"2019-07-07","2019-07-08","2019-07-09","2019-07-10","2019-07-11","2019-07-12","2019-07-13","2019-07-14","2019-07-15","2019-07-16","2019-07-17","2019-07-18","2019-07-19","2019-07-20","2019-07-21","2019-07-22","2019-07-23","2019-07-24","2019-07-25","2019-07-26","2019-07-27","2019-07-28","2019-07-29","2019-07-30","2019-07-31","2019-08-01","2019-08-02","2019-08-03"]
[null,null,{"$f":"C32","v":{"$error":"#N/A"}},{"$f":"UPPER(INDEX(Działania[DZIAŁANIE],MATCH($C44,Działania[ID],0)))","v":{"$error":"#N/A"}},{"$f":"IF(ISERROR(F32),E32,NA())","v":{"$error":"#N/A"}},{"$error":"#N/A"},{"$error":"#N/A"},{"$error":"#N/A"},{"$error":"#N/A"},{"$error":"#N/A"},{"$error":"#N/A"},{"$error":"#N/A"},{"$error":"#N/A"},{"$error":"#N/A"},{"$error":"#N/A"},{"$error":"#N/A"},{"$error":"#N/A"},{"$error":"#N/A"},{"$error":"#N/A"},{"$error":"#N/A"},{"$error":"#N/A"},{"$error":"#N/A"},{"$error":"#N/A"},{"$error":"#N/A"},{"$error":"#N/A"},{"$error":"#N/A"},{"$error":"#N/A"},{"$error":"#N/A"},{"$error":"#N/A"},{"$error":"#N/A"},{"$error":"#N/A"},{"$error":"#N/A"},{"$error":"#N/A"},{"$error":"#N/A"}]
[null,null,{"$f":"C33","v":{"$error":"#N/A"}},{"$f":"UPPER(INDEX(Działania[DZIAŁANIE],MATCH($C45,Działania[ID],0)))","v":{"$error":"#N/A"}},{"$f":"IF(ISERROR(F33),E33,NA())","v":{"$error":"#N/A"}},{"$error":"#N/A"},{"$error":"#N/A"},{"$error":"#N/A"},{"$error":"#N/A"},{"$error":"#N/A"},{"$error":"#N/A"},{"$error":"#N/A"},{"$error":"#N/A"},{"$error":"#N/A"},{"$error":"#N/A"},{"$error":"#N/A"},{"$error":"#N/A"},{"$error":"#N/A"},{"$error":"#N/A"},{"$error":"#N/A"},{"$error":"#N/A"},{"$error":"#N/A"},{"$error":"#N/A"},{"$error":"#N/A"},{"$error":"#N/A"},{"$error":"#N/A"},{"$error":"#N/A"},{"$error":"#N/A"},{"$error":"#N/A"},{"$error":"#N/A"},{"$error":"#N/A"},{"$error":"#N/A"},{"$error":"#N/A"},{"$error":"#N/A"}]
[null,null,{"$error":"#N/A"},{"$f":"UPPER(INDEX(Działania[DZIAŁANIE],MATCH($C46,Działania[ID],0)))","v":{"$error":"#N/A"}},{"$f":"IF(ISERROR(F34),E34,NA())","v":{"$error":"#N/A"}},{"$error":"#N/A"},{"$error":"#N/A"},{"$error":"#N/A"},{"$error":"#N/A"},{"$error":"#N/A"},{"$error":"#N/A"},{"$error":"#N/A"},{"$error":"#N/A"},{"$error":"#N/A"},{"$error":"#N/A"},{"$error":"#N/A"},{"$error":"#N/A"},{"$error":"#N/A"},{"$error":"#N/A"},{"$error":"#N/A"},{"$error":"#N/A"},{"$error":"#N/A"},{"$error":"#N/A"},{"$error":"#N/A"},{"$error":"#N/A"},{"$error":"#N/A"},{"$error":"#N/A"},{"$error":"#N/A"},{"$error":"#N/A"},{"$error":"#N/A"},{"$error":"#N/A"},{"$error":"#N/A"},{"$error":"#N/A"},{"$error":"#N/A"}]
[null,null,{"$error":"#N/A"},{"$f":"UPPER(INDEX(Działania[DZIAŁANIE],MATCH($C47,Działania[ID],0)))","v":{"$error":"#N/A"}},{"$f":"IF(ISERROR(F35),E35,NA())","v":{"$error":"#N/A"}},{"$error":"#N/A"},{"$error":"#N/A"},{"$error":"#N/A"},{"$error":"#N/A"},{"$error":"#N/A"},{"$error":"#N/A"},{"$error":"#N/A"},{"$error":"#N/A"},{"$error":"#N/A"},{"$error":"#N/A"},{"$error":"#N/A"},{"$error":"#N/A"},{"$error":"#N/A"},{"$error":"#N/A"},{"$error":"#N/A"},{"$error":"#N/A"},{"$error":"#N/A"},{"$error":"#N/A"},{"$error":"#N/A"},{"$error":"#N/A"},{"$error":"#N/A"},{"$error":"#N/A"},{"$error":"#N/A"},{"$error":"#N/A"},{"$error":"#N/A"},{"$error":"#N/A"},{"$error":"#N/A"},{"$error":"#N/A"},{"$error":"#N/A"}]
[null,null,-7,{"$f":"UPPER(INDEX(Działania[DZIAŁANIE],MATCH($C48,Działania[ID],0)))","v":"ROZPOCZĘCIE PROJEKTU"},{"$f":"IF(ISERROR(F36),E36,NA())","v":{"$error":"#N/A"}},{"$error":"#N/A"},{"$error":"#N/A"},7.300000000000001,{"$error":"#N/A"},{"$error":"#N/A"},{"$error":"#N/A"},{"$error":"#N/A"},{"$error":"#N/A"},{"$error":"#N/A"},{"$error":"#N/A"},{"$error":"#N/A"},{"$error":"#N/A"},{"$error":"#N/A"},{"$error":"#N/A"},{"$error":"#N/A"},{"$error":"#N/A"},{"$error":"#N/A"},{"$error":"#N/A"},{"$error":"#N/A"},{"$error":"#N/A"},{"$error":"#N/A"},{"$error":"#N/A"},{"$error":"#N/A"},{"$error":"#N/A"},{"$error":"#N/A"},{"$error":"#N/A"},{"$error":"#N/A"},{"$error":"#N/A"},{"$error":"#N/A"}]
[null,null,-6,{"$f":"UPPER(INDEX(Działania[DZIAŁANIE],MATCH($C49,Działania[ID],0)))","v":"PUNKT KONTROLNY 1"},{"$f":"IF(ISERROR(F37),E37,NA())","v":{"$error":"#N/A"}},{"$error":"#N/A"},{"$error":"#N/A"},{"$error":"#N/A"},{"$error":"#N/A"},{"$error":"#N/A"},{"$error":"#N/A"},{"$error":"#N/A"},{"$error":"#N/A"},{"$error":"#N/A"},{"$error":"#N/A"},{"$error":"#N/A"},{"$error":"#N/A"},{"$error":"#N/A"},{"$error":"#N/A"},{"$error":"#N/A"},6.300000000000001,{"$error":"#N/A"},{"$error":"#N/A"},{"$error":"#N/A"},{"$error":"#N/A"},{"$error":"#N/A"},{"$error":"#N/A"},{"$error":"#N/A"},{"$error":"#N/A"},{"$error":"#N/A"},{"$error":"#N/A"},{"$error":"#N/A"},{"$error":"#N/A"},{"$error":"#N/A"}]
[null,null,-5,{"$f":"UPPER(INDEX(Działania[DZIAŁANIE],MATCH($C50,Działania[ID],0)))","v":"PUNKT KONTROLNY 2"},{"$f":"IF(ISERROR(F38),E38,NA())","v":{"$error":"#N/A"}},{"$error":"#N/A"},{"$error":"#N/A"},{"$error":"#N/A"},{"$error":"#N/A"},{"$error":"#N/A"},{"$error":"#N/A"},{"$error":"#N/A"},{"$error":"#N/A"},{"$error":"#N/A"},{"$error":"#N/A"},{"$error":"#N/A"},{"$error":"#N/A"},{"$error":"#N/A"},{"$error":"#N/A"},{"$error":"#N/A"},{"$error":"#N/A"},5.300000000000001,{"$error":"#N/A"},{"$error":"#N/A"},{"$error":"#N/A"},{"$error":"#N/A"},{"$error":"#N/A"},{"$error":"#N/A"},{"$error":"#N/A"},{"$error":"#N/A"},{"$error":"#N/A"},{"$error":"#N/A"},{"$error":"#N/A"},{"$error":"#N/A"}]
[null,null,-4,{"$f":"UPPER(INDEX(Działania[DZIAŁANIE],MATCH($C51,Działania[ID],0)))","v":"PUNKT KONTROLNY 3"},{"$f":"IF(ISERROR(F39),E39,NA())","v":{"$error":"#N/A"}},{"$error":"#N/A"},{"$error":"#N/A"},{"$error":"#N/A"},{"$error":"#N/A"},{"$error":"#N/A"},{"$error":"#N/A"},{"$error":"#N/A"},{"$error":"#N/A"},{"$error":"#N/A"},{"$error":"#N/A"},{"$error":"#N/A"},{"$error":"#N/A"},{"$error":"#N/A"},{"$error":"#N/A"},{"$error":"#N/A"},{"$error":"#N/A"},{"$error":"#N/A"},{"$error":"#N/A"},4.300000000000001,{"$error":"#N/A"},{"$error":"#N/A"},{"$error":"#N/A"},{"$error":"#N/A"},{"$error":"#N/A"},{"$error":"#N/A"},{"$error":"#N/A"},{"$error":"#N/A"},{"$error":"#N/A"},{"$error":"#N/A"}]
[null,null,-3,{"$f":"UPPER(INDEX(Działania[DZIAŁANIE],MATCH($C52,Działania[ID],0)))","v":"PUNKT KONTROLNY 4"},{"$f":"IF(ISERROR(F40),E40,NA())","v":{"$error":"#N/A"}},{"$error":"#N/A"},{"$error":"#N/A"},{"$error":"#N/A"},{"$error":"#N/A"},{"$error":"#N/A"},{"$error":"#N/A"},{"$error":"#N/A"},{"$error":"#N/A"},{"$error":"#N/A"},{"$error":"#N/A"},{"$error":"#N/A"},{"$error":"#N/A"},{"$error":"#N/A"},{"$error":"#N/A"},{"$error":"#N/A"},{"$error":"#N/A"},{"$error":"#N/A"},{"$error":"#N/A"},{"$error":"#N/A"},{"$error":"#N/A"},{"$error":"#N/A"},{"$error":"#N/A"},{"$error":"#N/A"},{"$error":"#N/A"},{"$error":"#N/A"},{"$error":"#N/A"},{"$error":"#N/A"},{"$error":"#N/A"},{"$error":"#N/A"}]
[]
[]
[{"$nulls":4},{"$f":"E31","v":"2019-07-05"},{"$f":"F31","v":"2019-07-06"},"2019-07-07","2019-07-08","2019-07-09","2019-07-10","2019-07-11","2019-07-12","2019-07-13","2019-07-14","2019-07-15","2019-07-16","2019-07-17","2019-07-18","2019-07-19","2019-07-20","2019-07-21","2019-07-22","2019-07-23","2019-07-24","2019-07-25","2019-07-26","2019-07-27","2019-07-28","2019-07-29","2019-07-30","2019-07-31","2019-08-01","2019-08-02","2019-08-03"]
[{"$nulls":3},"Bieżący dzień",{"$f":"IF(E55=$D$3,5,NA())","v":5},{"$error":"#N/A"},{"$error":"#N/A"},{"$error":"#N/A"},{"$error":"#N/A"},{"$error":"#N/A"},{"$error":"#N/A"},{"$error":"#N/A"},{"$error":"#N/A"},{"$error":"#N/A"},{"$error":"#N/A"},{"$error":"#N/A"},{"$error":"#N/A"},{"$error":"#N/A"},{"$error":"#N/A"},{"$error":"#N/A"},{"$error":"#N/A"},{"$error":"#N/A"},{"$error":"#N/A"},{"$error":"#N/A"},{"$error":"#N/A"},{"$error":"#N/A"},{"$error":"#N/A"},{"$error":"#N/A"},{"$error":"#N/A"},{"$error":"#N/A"},{"$error":"#N/A"},{"$error":"#N/A"},{"$error":"#N/A"},{"$error":"#N/A"}]
[]
[{"$nulls":3},{"$f":"DATE(YEAR(MIN(E55:AH55)),MONTH(MIN(E55:AH55)),1)","v":"2019-07-01"},{"$f":"IF(MEDIAN($D58,E$55,EOMONTH($D58,0))=E$55,0.5,NA())","v":0.5},{"$f":"IF(MEDIAN($D58,F$55,EOMONTH($D58,0))=F$55,0.5,NA())","v":0.5},0.5,0.5,0.5,0.5,0.5,0.5,0.5,0.5,0.5,0.5,0.5,0.5,0.5,0.5,0.5,0.5,0.5,0.5,0.5,0.5,0.5,0.5,0.5,0.5,0.5,{"$error":"#N/A"},{"$error":"#N/A"},{"$error":"#N/A"}]
[{"$nulls":3},{"$f":"TEXT(D58,\"mmm rrrr\") & \" - Górny pasek\"","v":"Jul rrrr - Górny pasek"},{"$f":"E58+12.5","v":13},{"$f":"F58+12.5","v":13},13,13,13,13,13,13,13,13,13,13,13,13,13,13,13,13,13,13,13,13,13,13,13,13,13,{"$error":"#N/A"},{"$error":"#N/A"},{"$error":"#N/A"}]
[]
[{"$nulls":3},{"$f":"EOMONTH(D58,0)+1","v":"2019-08-01"},{"$f":"IF(MEDIAN($D61,E$55,EOMONTH($D61,0))=E$55,0.5,NA())","v":{"$error":"#N/A"}},{"$f":"IF(MEDIAN($D61,F$55,EOMONTH($D61,0))=F$55,0.5,NA())","v":{"$error":"#N/A"}},{"$error":"#N/A"},{"$error":"#N/A"},{"$error":"#N/A"},{"$error":"#N/A"},{"$error":"#N/A"},{"$error":"#N/A"},{"$error":"#N/A"},{"$error":"#N/A"},{"$error":"#N/A"},{"$error":"#N/A"},{"$error":"#N/A"},{"$error":"#N/A"},{"$error":"#N/A"},{"$error":"#N/A"},{"$error":"#N/A"},{"$error":"#N/A"},{"$error":"#N/A"},{"$error":"#N/A"},{"$error":"#N/A"},{"$error":"#N/A"},{"$error":"#N/A"},{"$error":"#N/A"},{"$error":"#N/A"},{"$error":"#N/A"},{"$error":"#N/A"},0.5,0.5,0.5]
[{"$nulls":3},{"$f":"TEXT(D61,\"mmm rrrr\") & \" - Górny pasek\"","v":"Aug rrrr - Górny pasek"},{"$f":"E61+12.5","v":{"$error":"#N/A"}},{"$f":"F61+12.5","v":{"$error":"#N/A"}},{"$error":"#N/A"},{"$error":"#N/A"},{"$error":"#N/A"},{"$error":"#N/A"},{"$error":"#N/A"},{"$error":"#N/A"},{"$error":"#N/A"},{"$error":"#N/A"},{"$error":"#N/A"},{"$error":"#N/A"},{"$error":"#N/A"},{"$error":"#N/A"},{"$error":"#N/A"},{"$error":"#N/A"},{"$error":"#N/A"},{"$error":"#N/A"},{"$error":"#N/A"},{"$error":"#N/A"},{"$error":"#N/A"},{"$error":"#N/A"},{"$error":"#N/A"},{"$error":"#N/A"},{"$error":"#N/A"},{"$error":"#N/A"},{"$error":"#N/A"},13,13,13]
[]
[]
[{"$nulls":3},{"$f":"D58+1","v":"2019-07-02"},{"$f":"IF(MEDIAN($D65,E$55)=E$55,0.5,NA())","v":{"$error":"#N/A"}},{"$f":"IF(MEDIAN($D65,F$55)=F$55,0.5,NA())","v":{"$error":"#N/A"}},{"$error":"#N/A"},{"$error":"#N/A"},{"$error":"#N/A"},{"$error":"#N/A"},{"$error":"#N/A"},{"$error":"#N/A"},{"$error":"#N/A"},{"$error":"#N/A"},{"$error":"#N/A"},{"$error":"#N/A"},{"$error":"#N/A"},{"$error":"#N/A"},{"$error":"#N/A"},{"$error":"#N/A"},{"$error":"#N/A"},{"$error":"#N/A"},{"$error":"#N/A"},{"$error":"#N/A"},{"$error":"#N/A"},{"$error":"#N/A"},{"$error":"#N/A"},{"$error":"#N/A"},{"$error":"#N/A"},{"$error":"#N/A"},{"$error":"#N/A"},{"$error":"#N/A"},{"$error":"#N/A"},{"$error":"#N/A"}]
[{"$nulls":3},{"$f":"D61+1","v":"2019-08-02"},{"$f":"IF(MEDIAN($D66,E$55)=E$55,0.5,NA())","v":{"$error":"#N/A"}},{"$error":"#N/A"},{"$error":"#N/A"},{"$error":"#N/A"},{"$error":"#N/A"},{"$error":"#N/A"},{"$error":"#N/A"},{"$error":"#N/A"},{"$error":"#N/A"},{"$error":"#N/A"},{"$error":"#N/A"},{"$error":"#N/A"},{"$error":"#N/A"},{"$error":"#N/A"},{"$error":"#N/A"},{"$error":"#N/A"},{"$error":"#N/A"},{"$error":"#N/A"},{"$error":"#N/A"},{"$error":"#N/A"},{"$error":"#N/A"},{"$error":"#N/A"},{"$error":"#N/A"},{"$error":"#N/A"},{"$error":"#N/A"},{"$error":"#N/A"},{"$error":"#N/A"},{"$error":"#N/A"},0.5,{"$error":"#N/A"}]
[]
[]
[{"$nulls":4},2.3,{"$f":"E69","v":2.3},{"$f":"F69","v":2.3},2.3,2.3,2.3,2.3,2.3,2.3,2.3,2.3,2.3,2.3,2.3,2.3,2.3,2.3,2.3,2.3,2.3,2.3,2.3,2.3,2.3,2.3,2.3,2.3,2.3,2.3,2.3]
[{"$nulls":3},3,{"$f":"LEFT(UPPER(TEXT(E55,\"ddd\")),$D70)","v":"FRI"},{"$f":"LEFT(UPPER(TEXT(F55,\"ddd\")),$D70)","v":"SAT"},"SUN","MON","TUE","WED","THU","FRI","SAT","SUN","MON","TUE","WED","THU","FRI","SAT","SUN","MON","TUE","WED","THU","FRI","SAT","SUN","MON","TUE","WED","THU","FRI","SAT"]
[{"$nulls":4},1.3,{"$f":"E71","v":1.3},1.3,1.3,1.3,1.3,1.3,1.3,1.3,1.3,1.3,1.3,1.3,1.3,1.3,1.3,1.3,1.3,1.3,1.3,1.3,1.3,1.3,1.3,1.3,1.3,1.3,1.3,1.3,1.3]
[{"$nulls":4},{"$f":"TEXT(E55,\"dd\")","v":"05"},{"$f":"TEXT(F55,\"dd\")","v":"06"},"07","08","09","10","11","12","13","14","15","16","17","18","19","20","21","22","23","24","25","26","27","28","29","30","31","01","02","03"]